BEGIN:VCALENDAR
VERSION:2.0
PRODID:-//Cutis Medical - ECPv4.6//NONSGML v1.0//EN
CALSCALE:GREGORIAN
METHOD:PUBLISH
X-WR-CALNAME:Cutis Medical
X-ORIGINAL-URL:https://cutismedical.com/et/
X-WR-CALDESC:Events for Cutis Medical
BEGIN:VEVENT
DTSTART;TZID=UTC+2:20171014T110000
DTEND;TZID=UTC+2:20171014T170000
DTSTAMP:20260421T124353
CREATED:20170912T080525Z
LAST-MODIFIED:20170912T080620Z
UID:6147-1507978800-1508000400@cutismedical.com
SUMMARY:Aptos in Lithuania with Dmitry Ponomarev
DESCRIPTION: 
URL:https://cutismedical.com/et/sundmus/aptos-in-lithuania-with-dmitry-ponomarev-2/
END:VEVENT
END:VCALENDAR