BEGIN:VCALENDAR
VERSION:2.0
PRODID:-//Cutis Medical - ECPv4.6//NONSGML v1.0//EN
CALSCALE:GREGORIAN
METHOD:PUBLISH
X-WR-CALNAME:Cutis Medical
X-ORIGINAL-URL:https://cutismedical.com/et/
X-WR-CALDESC:Events for Cutis Medical
BEGIN:VEVENT
DTSTART;VALUE=DATE:20210930
DTEND;VALUE=DATE:20210930
DTSTAMP:20260422T104927
CREATED:20210920T111009Z
LAST-MODIFIED:20210928T174115Z
UID:27660-1632960000-1633046399@cutismedical.com
SUMMARY:ME KUTSUME TEID KOOLITUSSEMINARILE TEEMAL «IDEAALNE PROFIIIL – ESTEETILINE ANALÜÜS JA AUTORITEHNIKAD»
DESCRIPTION:Speaker: Dr. Marianna Bar Lev (Israel) \nKõneleja: D. Marianna Bar Lev (Iisrael) \n? Enam kui 20 aastat mitmekülgset kogemust üldmeditsiinis ja 10 aastat esteetilise meditsiini praktikat. Ärge magage maha! \n? Kuupäev: 30 september\nAeg: 11:00-18: 00\nKoht: TALLINN\, Starmedica clinic Pirita Tee 26c  \nOsalemise tingimused: ravimite ostmine 250 € ulatuses või sissepääsupilet 150 €. \nOsale üritusel:\n\n\n\n\n\n\n\n\n\n\nTeie nimi (nõutud)\n \nTeie telefon (kohustuslik)\n \nTeie e-mail (nõutud)\n  \nTeie sõnum\n  \n\n\n	\n		\n			\n				\n				\n			\n			\n				\n				\n			\n		\n	\n\n\n \n\n \nVäljapaneku erikülaline – Dr. Marianna Bar Lev (Iisrael) \n? Enam kui 20 aastat mitmekülgset kogemust üldmeditsiinis ja 10 aastat esteetilise meditsiini praktikat. 6 aastat praktikat Rivka Ziv haigla üldkirurgia osakonnas ning 9 aastat teenistust sõjaväekliiniku juhatajana. \nPikaajaline kogemus palliatiivse hoolduse osutamisel. \nEsteetilise meditsiini koolitaja\, sertifitseeritud Iisraeli Esteetilise Meditsiini Akadeemia poolt. \n \nLUMINERA HYDRYAL 3% WITH MANNITOL (2*1.25ML SYRINGES KIT) \nHind: 138.00€ \n? Koosseisu LUMINERA HYDRYAL 3% kuulub hüaluroonhape неживотного päritolu kõrge puhastus. Toode on ühtlane\, läbipaistev ja биоразлагаемый geeli\, mis ei sisalda lateksit. \nHüaluroonhape\, millest see on valmistatud LUMINERA HYDRYAL 3%\, oma ainulaadne struktuur kattub looduslik hüaluroonhape sisalduva organismis. \n❄ Koosseisu LUMINERA HYDRYAL 3% ja kuulub mannitool (9 mg/ml)\, mis takistab oksüdatiivset kahjustumist ja pikendab soodsat mõju toote nahale. \nLUMINERA HYDRYAL 3% kasutusele süstimise teel ja ühtlaselt jaotub kudedesse. Vee molekuli kinnipeetavad ümbermõõt geeli\, aitavad taastada гидробаланса\, parandada elastsust ja siluda peeneid kortse. \nMannitool loob kaitsva barjääri vahel hüaluroonhape ja vabade radikaalide kahjustuste eest\, tänu millele on nahk näeb välja loomulik pikka aega. \nLUMINERA HYDRYAL 3% WITH MANNITOL KEHTIB TEOSTADA LIHTSAID MITTE-KIRURGILINE SÜSTIVATE PROTSEDUURE\, MIS TOOVAD KOHE TULEMUSI. \n \nLUMINERA HYDRYAL 4% WITH MANNITOL (2*1.25ML SYRINGES KIT) \nHind: 138.00€ \nKoosseisu LUMINERA HYDRYAL 4% kuulub hüaluroonhape неживотного päritolu kõrge puhastus. Toode on ühtlane\, läbipaistev ja биоразлагаемый geeli\, mis ei sisalda lateksit. Hüaluroonhape\, millest valmistatud toode\, oma ainulaadne struktuur kattub looduslik hüaluroonhape sisalduva organismis. \n⚜ Koosseisu LUMINERA HYDRYAL 4% kuulub mannitool (9 mg/ml)\, mis takistab oksüdatiivset kahjustumist ja pikendab soodsat mõju toote nahale. \n*saadaval pakendis 2 süstlaid on 1\,25 ml \nLUMINERA HYDRYAL 4% tutvustab süstimise teel ja ühtlaselt jaotub kudedesse. Vee molekuli kinnipeetavad ümbermõõt geeli\, aitavad taastada гидробаланса\, parandada elastsust ja siluda peeneid kortse. \nMannitool loob kaitsva barjääri vahel hüaluroonhape ja vabade radikaalide kahjustuste eest\, tänu millele on nahk näeb välja loomulik pikka aega. \nLUMINERA HYDRYAL 4% WITH MANNITOL KEHTIB TEOSTADA LIHTSAID MITTE-KIRURGILINE SÜSTIVATE PROTSEDUURE\, MIS TOOVAD KOHE TULEMUSI. \n \nLUMINERA CRYSTALYS (2*1.25ML SYRINGES KIT) WITH LID / WITHOUT LID \nHind(With Lid): 222.00€\nHind:(Without Lid): 222.00€ \nHüdroksüapatiidist kaltsiumi (55\,7 %)\nGlütseriin\nNaatrium-карбоксиметилцеллюлоза\nFosfaatpuhver\n? Süstitav дермальный филлер LUMINERA CRYSTALYS põhineb hüdroksüapatiidiga kaltsiumi taastab maht ja loomulikud kontuurid isiku arvel regenereerimise looduslik kollageeni\, füsioloogiline täiteaine pehmetes kudedes. \nTähtaeg kliiniliste rakenduste hüdroksüapatiidiga kaltsiumi meditsiini valdkonnas ulatub paari aastakümne jooksul. See annab kohese ja pikaajalise noorendava efekti. \n⏰ Pikaajaline mõju — микросферы hüdroksüapatiidiga kaltsiumi loovad struktuuri rakkude kasvu fibroblastides\, mis omakorda stimuleerivad uue kollageeni kiud looduslikud ained\, mis edendamiseks on suurenenud mahud nägu. \nHävitamine hüdroksüapatiidiga kaltsiumi toimub samaaegselt haridus-neo-kollageeni tsoonis süsti\, tuues nägu ilus\, noor ja looduslikult väga pikka aega. \nLUMINERA CRYSTALYS koosneb ringi\, mittepoorsest ja sile mikrosfääre hüdroksüapatiidiga kaltsiumi\nLäbimõõt mikrosfääre (25-45 mkm) pakub lihtsat экструзию toote\nVähendab riski migratsioon on osakeste ja фагоцитоза\, tagades naha siledaks \nTaotluse toote LUMINERA CRYSTALYS noorendamine on toonud suurepäraseid tulemusi. Patsiendid\, kes on läbinud protseduuri abil Кристалиса\, soovitavad\, et see on vahend teiste inimeste ja suure tõenäosusega jääda ustavaks toote. \nPärast ravimi kasutamise LUMINERA CRYSTALYS ei avastatud tõsiseid kõrvaltoimeid. Kõrvaltoimed olid kerge pöörduvad ja need kujutasid endast tüüpilist reaktsiooni tsoonide kehtestamine ei ole seotud филлером. \nKliiniline mõju protseduur kestab kuni 2 aastat sõltuvalt summa sisestatud филлера\, omadused naha ja patsiendi vanusest. \nKOHENE EFEKT — IDEAALNE TÄITMINE JA PULL-UP NAHK VENIB KOHE PÄRAST SÜSTIMIST. \n \nSEMINARI PROGRAMM: \n1. Sissejuhatus\nIdeaalse profiili proportsioonid – Analüüsid \n2. Lateraalne lifting – harmoonia leidmine\nIndividuaalne kliendianalüüs \n3. Autoritehnikad dr. Irene Krupnik profiili korrigeerimisest\n·Temporaalpiirkond (tehnikad + koolitusjuhtum)\n·Tsügomaatiline piirkond (tehnikad + koolitusjuhtum)\n·Nina (tehnikad + koolitusjuhtum)\n·Lõug (tehnikad + koolitusjuhtum)\n·Mandibulaarne nurk (tehnikad + koolitusjuhtum)\n·Huuled (tehnikad + koolitusjuhtum) \n \nIDEAALNE PROFIIIL – ESTEETILINE ANALÜÜS JA AUTORITEHNIKAD \nKUUPÄEV: 30.09.2021\nKOHT: TALLINN\, Starmedica clinic Pirita Tee 26c  \nFor registration: info@cutismedical.com or WhatsApp +372 5373 7542\n  \nOsale üritusel:\n\n\n\n\n\n\n\n\n\n\nTeie nimi (nõutud)\n \nTeie telefon (kohustuslik)\n \nTeie e-mail (nõutud)\n  \nTeie sõnum\n  \n\n\n	\n		\n			\n				\n				\n			\n			\n				\n				\n			\n		\n	\n\n\n \n\n
URL:https://cutismedical.com/et/sundmus/me-kutsume-teid-koolitusseminarile-teemal-ideaalne-profiiil-esteetiline-analuus-ja-autoritehnikad/
CATEGORIES:Tallinn.
ATTACH;FMTTYPE=image/jpeg:https://cutismedical.com/wp-content/uploads/2021/09/whatsapp-image-2021-09-20-at-15.01.09.jpeg
END:VEVENT
END:VCALENDAR