BEGIN:VCALENDAR
VERSION:2.0
PRODID:-//Cutis Medical - ECPv4.6//NONSGML v1.0//EN
CALSCALE:GREGORIAN
METHOD:PUBLISH
X-WR-CALNAME:Cutis Medical
X-ORIGINAL-URL:https://cutismedical.com/et/
X-WR-CALDESC:Events for Cutis Medical
BEGIN:VEVENT
DTSTART;TZID=UTC+2:20180526T100000
DTEND;TZID=UTC+2:20180526T170000
DTSTAMP:20260425T024308
CREATED:20180226T212010Z
LAST-MODIFIED:20180521T103052Z
UID:6912-1527328800-1527354000@cutismedical.com
SUMMARY:Plasmolifting with Olga Korotkova in TALLINN
DESCRIPTION:Plasmolifting kosmetoloogias ja trihholoogias: baaskoolitus esteetilise meditsiini spetsialistidele \n  \nLektor Olga Korotkova – dermatoveneroloog\, kosmetoloog\, trihholoog\, spetsialist injektsiooni- ja lasermetoodikate alal. Firma Plasmolifting juhtivspetsialist esteetilise meditsiini ja dermatoloogia suunal ning Plasmolifting Gel tehnoloogia arendaja. \nAutoloogilise plasma kasutamise ajaloolised ja teoreetilised aspektid meditsiinis. Vere füsioloogilised ja kliinilised omadused. Kasvufaktorid\, milleks neid vaja on? Autoloogilise plasma toime hüpoteesid. Autoloogilise plasma kasutamise morfoloogiline põhjendus meditsiinis.\nMeetodi materiaalne-tehniline varustus – Plasmaliftingu tehnoloogiat eristavad omadused. Probiiride\, antikoagulantide ja tsentrifuugide erisused.\nNäidustused\, vastunäidustused\, sisestamise tehnikad. Kombineeritud kasutamine.\nPlasmolifting Native – füsioloogilise regeneratsiooni käivitamine. Näidustused\, kombineeritud kasutamine naha esteetilistel taastusprotseduuridel. Natiivne vorm – kosmetoloogia baasprotseduur.\nPlasmolifting Viscosae – valgudefitsiidi taastamine. Valgustruktuuride mõiste. Näidustused\, sisestamispiirkonnad\, sisestamise tehnikad.\nPlasmolifting GelTherapy – milleks? Kortsude etiotroopne ravi. Näidustused\, sisestamise tehnikad ja nipid.\nBiotehnoloogiline kosmeetika – Plasmolifting in vivo.\nPlasmalifting dermatoloogias ja onühholoogias.\nAkne ja rosaatsea.\nJuuste väljalangemine.\nPlasmolifing Body – monoteraapia ja kombineeritud kasutamine keha noorendamisel ja muutuste korrigeerimisel.\nMeetodi kasutusvõimalused taastusmeditsiinis\, günekoloogias\, ortopeedias\, stomatoloogias ja neuroloogias.\nPraktiliste oskuste viimistlemine. Küsimused ja vastused.\nKursuse käigus õpite kasutama plasmaliftingu metoodikat oma kliinilises praktikas\, saate teadmisi kombineeritud protokollide kohta ning võimaluse esteetiliste probleemide ohutuks ja autoloogiliseks raviks oma patsientidel. \n  \nOSALUSTASU:150€ või osta 2 Plasmolifting karpi (2 x 180€) \n  \nKUUPÄEVAD: \nHelsinki – 25.05.2018 \nTallinn – 26.05.2018 \nRiia – 03.06.2018 \n  \nASUKOHT:Decus kliinik\,  Sutiste tee 19a \nREGISTREERIMINE:Karina Vinstein\nTel: (+372) 5373 7542\nE-mail: karina.vinstein@cutismedical.com 
URL:https://cutismedical.com/et/sundmus/olga-korotkova-in-tallinn/
CATEGORIES:Tallinn.
ATTACH;FMTTYPE=image/png:https://cutismedical.com/wp-content/uploads/2017/09/Plasmolifting-OlgaK.png
END:VEVENT
END:VCALENDAR