BEGIN:VCALENDAR
VERSION:2.0
PRODID:-//Cutis Medical - ECPv4.6//NONSGML v1.0//EN
CALSCALE:GREGORIAN
METHOD:PUBLISH
X-WR-CALNAME:Cutis Medical
X-ORIGINAL-URL:https://cutismedical.com/et/
X-WR-CALDESC:Events for Cutis Medical
BEGIN:VEVENT
DTSTART;TZID=UTC+2:20180615T100000
DTEND;TZID=UTC+2:20180615T170000
DTSTAMP:20260425T203734
CREATED:20180413T162545Z
LAST-MODIFIED:20180607T123157Z
UID:7072-1529056800-1529082000@cutismedical.com
SUMMARY:Panestetic training in Tallinn
DESCRIPTION:Panestetic on edukas ettevõte\, mis tegutseb esteetilise meditsiini turul üle kogu maailma alates 1984. aastast. Firma Panestetic poolt loodud esteetikaseadeldis on välja töödatud tänu sellele\, et firma on pidevalt investeerinud uute tehnoloogiate teaduslikesse uuringutesse. See on võimaldanud meie ettevõttel hoida oma kliente ja saada tunnustust paljudelt tervishoiuspetsialistidelt\, kes on otsustanud oma ilusalongides kasutusele võtta meie firma Panestetic poolt välja töödatud esteetikaseadeldise.\n• 11.00 Panesteticuga tutvumine: firma\, ajalugu\, missioon ja nägemus Paola Minutilt.\n• 11.30 Aparaadi Zoner esitlus Carlo Confalonierilt\n• 13.00 Aparaadi 4-Shape esitlus Carlo Confalonierilt\n• 14.30 Lõunavaheaeg\n• 15.30 Näoprotseduuride demonstreerimine: Zoner FACE´i esitlus Carlo Confalonierilt\n• 17.00 Kehaprotseduuride demonstreerimine: Zoner BODY esitlus Carlo Confalonierilt\n• 18.00 Esitluse lõpp 
URL:https://cutismedical.com/et/sundmus/panestetic-training/
CATEGORIES:Tallinn.
END:VEVENT
END:VCALENDAR