BEGIN:VCALENDAR
VERSION:2.0
PRODID:-//Cutis Medical - ECPv4.6//NONSGML v1.0//EN
CALSCALE:GREGORIAN
METHOD:PUBLISH
X-WR-CALNAME:Cutis Medical
X-ORIGINAL-URL:https://cutismedical.com
X-WR-CALDESC:Events for Cutis Medical
BEGIN:VEVENT
DTSTART;TZID=UTC+2:20171107T100000
DTEND;TZID=UTC+2:20171107T170000
DTSTAMP:20260425T230859
CREATED:20171101T101839Z
LAST-MODIFIED:20171101T101856Z
UID:6349-1510048800-1510074000@cutismedical.com
SUMMARY:Luminera with Dmitry Ponomarev in Latvia
DESCRIPTION:\n
URL:https://cutismedical.com/event/luminera-with-dmitry-ponomarev-in-latvia/
CATEGORIES:Riga
END:VEVENT
END:VCALENDAR