BEGIN:VCALENDAR
VERSION:2.0
PRODID:-//Cutis Medical - ECPv4.6//NONSGML v1.0//EN
CALSCALE:GREGORIAN
METHOD:PUBLISH
X-WR-CALNAME:Cutis Medical
X-ORIGINAL-URL:https://cutismedical.com
X-WR-CALDESC:Events for Cutis Medical
BEGIN:VEVENT
DTSTART;TZID=UTC+2:20180617T110000
DTEND;TZID=UTC+2:20180617T180000
DTSTAMP:20260425T175226
CREATED:20180413T163022Z
LAST-MODIFIED:20180607T123403Z
UID:7080-1529233200-1529258400@cutismedical.com
SUMMARY:Panestetic training in Riga
DESCRIPTION:Panestetic is a successful company with a high knowledge of the aesthetic market worldwide since 1984. Every esthetic device for beauty centers developed by Panestetic is the result of a constant investment in research and development of new technologies that has allowed us to retain our customers and to receive appreciation from many wellness professionals who decided to introduce the Panestetic esthetic devices in their beauty practice. \n•  11.00 Introduction of Panestetic: company\, story\, mission\, vision by Paola Minuti\n• 11.30 Presentation of Zoner by Carlo Confalonieri\n• 13.00 Presentation of 4-Shape by Carlo Confalonieri\n• 14.30 Light lunch break\n• 15.30 Demo treatments Zoner FACE by Carlo Confalonieri\n• 17.00 Demo treatments Zoner BODY by Carlo Confalonieri\n• 18.00 end 
URL:https://cutismedical.com/event/panestetic-training-in-riga/
CATEGORIES:Riga
END:VEVENT
END:VCALENDAR