BEGIN:VCALENDAR
VERSION:2.0
PRODID:-//Cutis Medical - ECPv4.6//NONSGML v1.0//EN
CALSCALE:GREGORIAN
METHOD:PUBLISH
X-WR-CALNAME:Cutis Medical
X-ORIGINAL-URL:https://cutismedical.com
X-WR-CALDESC:Events for Cutis Medical
BEGIN:VEVENT
DTSTART;TZID=UTC+2:20171008T100000
DTEND;TZID=UTC+2:20171008T170000
DTSTAMP:20260419T133732
CREATED:20170815T181543Z
LAST-MODIFIED:20170908T085941Z
UID:5986-1507456800-1507482000@cutismedical.com
SUMMARY:WORKSHOP with DMITRY PONOMAREV in ROVANIEMI
DESCRIPTION:Training Centre Cutis Medical invites to join general master class of contour plastics\, mesotherapy\, threads and peelings. The main aspect of the course is an overview of products and competitive strengths of our brands. \n \n  \n10.00-16.00 Theory + master class / practice. \n  \nTrainer: Dmitry Ponomarev \n  \nTheory + master class + practise on own model \nParticipation fee: \nPeels\, mesotherapy\, biorevitalization 200EUR + fee for materials (the model may pay for the procedure and materials themselves)\nFillers\, mesothreads (mono and coq) 350EUR + fee for materials (the model may pay for the procedure and materials themselves)\n  \nPlace: Beauty and Perforation Studio\, Studio NICE\, Ainonkatu 4-6\, 96200 ROVANIEMI \n  \nRegistration: \nAnna Helin\nTel: (+358) 040 193 8815 \nE-mail: anna.helin@cutismedical.com \n  \nNumber of participants is limited! 
URL:https://cutismedical.com/event/workshop-with-natalia-neuvonen-in-rovaniemi/
CATEGORIES:Helsinki
END:VEVENT
END:VCALENDAR