BEGIN:VCALENDAR
VERSION:2.0
PRODID:-//Cutis Medical - ECPv4.6//NONSGML v1.0//EN
CALSCALE:GREGORIAN
METHOD:PUBLISH
X-WR-CALNAME:Cutis Medical
X-ORIGINAL-URL:https://cutismedical.com
X-WR-CALDESC:Events for Cutis Medical
BEGIN:VEVENT
DTSTART;TZID=UTC+2:20171020T110000
DTEND;TZID=UTC+2:20171022T170000
DTSTAMP:20260419T133733
CREATED:20170605T131002Z
LAST-MODIFIED:20171012T080339Z
UID:5374-1508497200-1508691600@cutismedical.com
SUMMARY:Beauty Exhibition Finland I love me 2017
DESCRIPTION:Programm http://iloveme.messukeskus.com/messuilla/?lang=en \n \nCutis Medical stend 6e99 
URL:https://cutismedical.com/event/beauty-exhibition-finland/
CATEGORIES:Helsinki
END:VEVENT
END:VCALENDAR