BEGIN:VCALENDAR
VERSION:2.0
PRODID:-//Cutis Medical - ECPv4.6//NONSGML v1.0//EN
CALSCALE:GREGORIAN
METHOD:PUBLISH
X-WR-CALNAME:Cutis Medical
X-ORIGINAL-URL:https://cutismedical.com
X-WR-CALDESC:Events for Cutis Medical
BEGIN:VEVENT
DTSTART;TZID=UTC+2:20171031T110000
DTEND;TZID=UTC+2:20171031T160000
DTSTAMP:20260419T122421
CREATED:20170908T140420Z
LAST-MODIFIED:20170908T140459Z
UID:6098-1509447600-1509465600@cutismedical.com
SUMMARY:Plasmolifting in Helsinki\, Finland with Natalja Levai
DESCRIPTION: \n11.00-16.00 \nTeoria:\nPlasmolifting menetelmän teoreettiset perusteet\nPlasmoliftng kosmetologiassa\nValmistelun demonstraatio:\nhuone\ninstrumentit\npotilas\nMaster class ja ohjeistus:\nplasmolifting kasvojen ja kaulan alueella\nplasmolifting käsien ja dekolteen alueella\nplasmolifting päänahka ja hiukset\nplasmolifting GEELI kasvojen alueella (kaula\, kädet\, dekoltee)\nKysymyksiä ja vastauksia. \nKoulutuksen aikana opit käyttämään plasmolifting-menetelmää työssäsi ja opit protokollat. Tämä mahdollistaa sen\, että voit ratkaista asiakkaidesi esteettisiä ongelmia turvallisen ja autologisen metodin avulla. \nKOULUTTAJA:\nNatalja Levai\nOSALLISTUMISEN HINTA:\n350 euroa\nPAIKKA:\nGrand Beauty Clinic\, Pursimiehenkatu 11\, Helsinki \nVOITTE REKISTERÖITYÄ:\nAnna Helin\nTel: (+358) 40 193 88 15\nE-mail: anna.helin@cutismedical.com 
URL:https://cutismedical.com/event/plasmolifting-in-helsinki-finland-with-natalja-levai-2/
CATEGORIES:Helsinki
END:VEVENT
END:VCALENDAR