BEGIN:VCALENDAR
VERSION:2.0
PRODID:-//Cutis Medical - ECPv4.6//NONSGML v1.0//EN
CALSCALE:GREGORIAN
METHOD:PUBLISH
X-WR-CALNAME:Cutis Medical
X-ORIGINAL-URL:https://cutismedical.com/ru/
X-WR-CALDESC:Events for Cutis Medical
BEGIN:VEVENT
DTSTART;TZID=UTC+2:20220917T110000
DTEND;TZID=UTC+2:20220917T170000
DTSTAMP:20260423T041544
CREATED:20220903T143922Z
LAST-MODIFIED:20220903T144313Z
UID:36128-1663412400-1663434000@cutismedical.com
SUMMARY:Full face medical optimization seminar
DESCRIPTION:17 сентября презентуем уникальные формулы Маурицио Чеккарелли! \nКак долго мы ждали этого события! \nУже в сентябре на семинаре «FULL FACE MEDICAL OPTIMIZATION» мы рассмотрим популярные во всем мире формулы и протоколы\, ежегодно доказывающие свою эффективность. В рамках программы будут представлены протоколы и препараты\, направленные на оптимизацию функций тканей лица и тела\, решающих функциональные и эстетические проблемы. \n➡️ На мероприятии рассмотрим:\n▪️ Протокол «Dermis Regeneration» по оптимизации биологического состояния дермы. \n▪️ Протокол «Hydra dermis»\, направленный на глубокое увлажнение дермы. \n▪️ Протокол «Lifting without a scalpel» – настоящее открытие по реструктуризации кожи. \n▪️ Протокол Muscle Regeneration – регенерация мышечной ткани. \n▪️ Протокол «Hyperpigmentation» по эффективному осветлению кожи. \n▪️ Протокол «Bone Regeneration» для реконструкции костной ткани. \n▪️ Lipogenetic – НОВИНКА по реконструкции грудных желез. Наша новейшая техника\, позволяющая без хирургического вмешательства вернуть женской груди потерянные объемы. \n▪️ Формула Fat Apoptosis (апоптоз адипоцитов) – липолитик последнего поколения. \n▪️ Формула MesogroW по восстановлению волос в области головы и бровей. \nДля вашего удобства мы сформировали обучение так\, чтобы за 1 день вы получили новейшие и современные знания от ведущих специалистов по косметологии.? \n⏰ Семинар состоится 17 сентября в 11:00. В 13:30 вас ждет кофе брейк\, а в 17:00 – завершение мероприятия. \nАдрес проведения семинара: Warsaw Marriott Hotel\, al. Jerozolimskie 65/79\, Warszawa\, Польша. \nПрекрасная возможность повысить уровень квалификации и получить ответы на вопросы от профессора Маурицио Чеккарелли ☝️ \nhttps://dermolifeglobal.com/full-face-medical-optimization-seminar/ 
URL:https://cutismedical.com/ru/мероприятие/full-face-medical-optimization-seminar/
CATEGORIES:Польша
ATTACH;FMTTYPE=image/png:https://cutismedical.com/wp-content/uploads/2022/09/shooterscreenshot-1232-03-09-22.png
END:VEVENT
END:VCALENDAR