BEGIN:VCALENDAR
VERSION:2.0
PRODID:-//Cutis Medical - ECPv4.6//NONSGML v1.0//EN
CALSCALE:GREGORIAN
METHOD:PUBLISH
X-WR-CALNAME:Cutis Medical
X-ORIGINAL-URL:https://cutismedical.com/ru/
X-WR-CALDESC:Events for Cutis Medical
BEGIN:VEVENT
DTSTART;TZID=UTC+2:20170825T100000
DTEND;TZID=UTC+2:20170825T180000
DTSTAMP:20260424T124520
CREATED:20170620T121434Z
LAST-MODIFIED:20170810T141201Z
UID:5463-1503655200-1503684000@cutismedical.com
SUMMARY:Algeness Workshop with Irina Bashura in Estonia
DESCRIPTION: \nНовое слово в мире косметологии Филлеры Algeness\nПервый 100% натуральный филлер \nALGENESS ОБУЧЕНИЕ \nНовый формат обучения : \nПРЕПАРАТ НЕ ПРОДАЕТСЯ БЕЗ ОБУЧЕНИЯ. \nДлительность обучения 1 дня ( теория + экзамен + практика ). \nПосле обучения тренер Algeness  поддерживают и консультирует Вас в течении года. \nДлительность обучения первого дня с 11.00-17.00. \nСТОИМОСТЬ: \nТеория 150 евро\nТеория + практика 350 евро\nПри покупке 3 коробок филлеров обучение БЕСПЛАТНО!\nМЕСТО: \nGrand Beauty Clinic\, Pirita tee 26c-4\, Таллин\nПлан семинара. \nИстория. Возникновение филлера на основне агарозы.\nИсследования Algeness\nЧто такое Algeness ?\nБиохимия\, метаболизм Agaros gel.\nАнтидот на Algeness.\nПреимущества Algeness в сравнении с инъекционными препаратами.\nПрименение Algeness \, в зависимости от цели красоты.\nПроцесс старения.\n»Face Recurve»- новая концепция структурного старения лица. Концепция Клода ле Луарна.\nТопографическая анатомия лица с элементами трупных материалов. Жировые пакеты.\nАлгоритм процедуры.\nАвторские методы консультирования пациента.\nПоказание.\nПротивопоказания.\nТехники и зоны безопасного введения препарата.\nСхемы коррекции различных зон. Особенности введения \, с помощью иглы и канюли.\nВопросы асептики и антисептики.\nПостинъекционный уход.\nСочетание с процедурами Algeness (пилинги\, шлифовки\, ботулинотерапия\, контурная пластика).\nПсихотип клиентов.\nКак себя защитить и как правильно консультировать и принимать решения по процедурам .\nКак тактично отказать клиенту .Защита специалиста от «мошенников» .\nДемонстрация методик. \nПостановки руки.\nИндивидуальный подход к каждому обучающему.\nПрактическая работа проходит под присмотром и чутким контролем квалифицированных специалистов тренеров Algeness\nВо время мастер-класса \, каждому обучающемуся предоставляется модель для отработки техник.\nМетодическое указание преподавателя. \nТребование к участникам: медицинское образование\, провизор-косметолог\, наличие модели\, форма\, сменная обувь. 
URL:https://cutismedical.com/ru/мероприятие/algeness-workshop-with-irina-bashura-in-estonia/
CATEGORIES:Таллин
END:VEVENT
END:VCALENDAR