BEGIN:VCALENDAR
VERSION:2.0
PRODID:-//Cutis Medical - ECPv4.6//NONSGML v1.0//EN
CALSCALE:GREGORIAN
METHOD:PUBLISH
X-WR-CALNAME:Cutis Medical
X-ORIGINAL-URL:https://cutismedical.com/ru/
X-WR-CALDESC:Events for Cutis Medical
BEGIN:VEVENT
DTSTART;TZID=UTC+2:20171223T110000
DTEND;TZID=UTC+2:20171223T170000
DTSTAMP:20260424T124438
CREATED:20170621T113831Z
LAST-MODIFIED:20170926T121914Z
UID:5536-1514026800-1514048400@cutismedical.com
SUMMARY:Aptos in Latvia with Dmitry Ponomarev
DESCRIPTION:\n
URL:https://cutismedical.com/ru/мероприятие/aptos-in-latvia-with-dmitry-ponomarev-3/
CATEGORIES:Рига
END:VEVENT
END:VCALENDAR