BEGIN:VCALENDAR
VERSION:2.0
PRODID:-//Cutis Medical - ECPv4.6//NONSGML v1.0//EN
CALSCALE:GREGORIAN
METHOD:PUBLISH
X-WR-CALNAME:Cutis Medical
X-ORIGINAL-URL:https://cutismedical.com/ru/
X-WR-CALDESC:Events for Cutis Medical
BEGIN:VEVENT
DTSTART;TZID=UTC+2:20180129T080000
DTEND;TZID=UTC+2:20180201T170000
DTSTAMP:20260419T150738
CREATED:20180109T190225Z
LAST-MODIFIED:20180109T190225Z
UID:6637-1517212800-1517504400@cutismedical.com
SUMMARY:Arab Health 2018
DESCRIPTION:Arab Health is the largest gathering of healthcare and trade professionals in the MENA region. 
URL:https://cutismedical.com/ru/мероприятие/arab-health-2018/
CATEGORIES:Dubai
ATTACH;FMTTYPE=image/jpeg:https://cutismedical.com/wp-content/uploads/2018/01/8125-1.jpg
END:VEVENT
END:VCALENDAR