BEGIN:VCALENDAR
VERSION:2.0
PRODID:-//Cutis Medical - ECPv4.6//NONSGML v1.0//EN
CALSCALE:GREGORIAN
METHOD:PUBLISH
X-WR-CALNAME:Cutis Medical
X-ORIGINAL-URL:https://cutismedical.com/ru/
X-WR-CALDESC:Events for Cutis Medical
BEGIN:VEVENT
DTSTART;TZID=UTC+2:20180406T080000
DTEND;TZID=UTC+2:20180408T170000
DTSTAMP:20260425T012016
CREATED:20180226T210140Z
LAST-MODIFIED:20180226T210140Z
UID:6901-1523001600-1523206800@cutismedical.com
SUMMARY:CINDERELLA 2018
DESCRIPTION:25th Anniversary of the International Beauty Industry Exhibition PELENĖ  \nThe International Beauty Industry Exhibition PELENĖ is the largest international beauty industry event in the Baltic countries. The exhibition features latest global beauty market news\, beauty specialists’ presentations and championships\, in addition to this\, seminars of international standards and trainings for specialists. \nMore than 350 exhibitors participate and 25 000 visitors visit Cinderella each year. The audience mostly consists of women: 30% of them are related to the beauty industry – owners of hairdresser’s shops and beauty salons\, hairdressers\, stylists\, cosmeticians\, make – up artists. 
URL:https://cutismedical.com/ru/мероприятие/cinderella-2018/
CATEGORIES:Vilnius
ATTACH;FMTTYPE=image/jpeg:https://cutismedical.com/wp-content/uploads/2018/02/jpgCF80EA019B8DF75853C072D4F9BB2381F4BF02535AA3CC482^pimgpsh_fullsize_distr.jpg
END:VEVENT
END:VCALENDAR