BEGIN:VCALENDAR
VERSION:2.0
PRODID:-//Cutis Medical - ECPv4.6//NONSGML v1.0//EN
CALSCALE:GREGORIAN
METHOD:PUBLISH
X-WR-CALNAME:Cutis Medical
X-ORIGINAL-URL:https://cutismedical.com/ru/
X-WR-CALDESC:Events for Cutis Medical
BEGIN:VEVENT
DTSTART;TZID=UTC+2:20170617T100000
DTEND;TZID=UTC+2:20170617T170000
DTSTAMP:20260424T101643
CREATED:20170531T134003Z
LAST-MODIFIED:20170531T134158Z
UID:5237-1497693600-1497718800@cutismedical.com
SUMMARY:EACH MONTHS WORKSHOP IN ESTONIA
DESCRIPTION:\n
URL:https://cutismedical.com/ru/мероприятие/each-months-workshop-in-estonia/
CATEGORIES:Таллин
END:VEVENT
END:VCALENDAR