BEGIN:VCALENDAR
VERSION:2.0
PRODID:-//Cutis Medical - ECPv4.6//NONSGML v1.0//EN
CALSCALE:GREGORIAN
METHOD:PUBLISH
X-WR-CALNAME:Cutis Medical
X-ORIGINAL-URL:https://cutismedical.com/ru/
X-WR-CALDESC:Events for Cutis Medical
BEGIN:VEVENT
DTSTART;TZID=UTC+2:20181012T080000
DTEND;TZID=UTC+2:20181014T170000
DTSTAMP:20260419T133854
CREATED:20180110T080509Z
LAST-MODIFIED:20180117T133534Z
UID:6645-1539331200-1539536400@cutismedical.com
SUMMARY:Ilu Sõnum 2018
DESCRIPTION:\n
URL:https://cutismedical.com/ru/мероприятие/ilu-sonum-2018/
CATEGORIES:Таллин
ATTACH;FMTTYPE=image/jpeg:https://cutismedical.com/wp-content/uploads/2018/01/ef0f62cd304bf016c80ca137a42b8556.jpg
END:VEVENT
END:VCALENDAR