BEGIN:VCALENDAR
VERSION:2.0
PRODID:-//Cutis Medical - ECPv4.6//NONSGML v1.0//EN
CALSCALE:GREGORIAN
METHOD:PUBLISH
X-WR-CALNAME:Cutis Medical
X-ORIGINAL-URL:https://cutismedical.com/ru/
X-WR-CALDESC:Events for Cutis Medical
BEGIN:VEVENT
DTSTART;TZID=UTC+2:20180421T080000
DTEND;TZID=UTC+2:20180422T170000
DTSTAMP:20260419T150738
CREATED:20180110T081012Z
LAST-MODIFIED:20180110T081012Z
UID:6653-1524297600-1524416400@cutismedical.com
SUMMARY:Intelligent beauty congress
DESCRIPTION:\n
URL:https://cutismedical.com/ru/мероприятие/intelligent-beauty-congress/
CATEGORIES:Рига
ATTACH;FMTTYPE=image/png:https://cutismedical.com/wp-content/uploads/2018/01/fa913e_45da3ce73e964744b10109733243d6bc.png
END:VEVENT
END:VCALENDAR