BEGIN:VCALENDAR
VERSION:2.0
PRODID:-//Cutis Medical - ECPv4.6//NONSGML v1.0//EN
CALSCALE:GREGORIAN
METHOD:PUBLISH
X-WR-CALNAME:Cutis Medical
X-ORIGINAL-URL:https://cutismedical.com/ru/
X-WR-CALDESC:Events for Cutis Medical
BEGIN:VEVENT
DTSTART;TZID=UTC+2:20180517T090000
DTEND;TZID=UTC+2:20180519T190000
DTSTAMP:20260424T231314
CREATED:20180302T102504Z
LAST-MODIFIED:20180302T102504Z
UID:6987-1526547600-1526756400@cutismedical.com
SUMMARY:IX СЪЕЗД СПЕЦИАЛИСТОВ ЭСТЕТИЧЕСКОЙ МЕДИЦИНЫ В ОДЕССЕ
DESCRIPTION:\n
URL:https://cutismedical.com/ru/мероприятие/ix-sezd-specialistov-jesteticheskoj-med/
CATEGORIES:Odessa
ATTACH;FMTTYPE=image/jpeg:https://cutismedical.com/wp-content/uploads/2018/03/d3c59d4d4b.jpg
END:VEVENT
END:VCALENDAR