BEGIN:VCALENDAR
VERSION:2.0
PRODID:-//Cutis Medical - ECPv4.6//NONSGML v1.0//EN
CALSCALE:GREGORIAN
METHOD:PUBLISH
X-WR-CALNAME:Cutis Medical
X-ORIGINAL-URL:https://cutismedical.com/ru/
X-WR-CALDESC:Events for Cutis Medical
BEGIN:VEVENT
DTSTART;TZID=UTC+2:20171210T110000
DTEND;TZID=UTC+2:20171210T180000
DTSTAMP:20260424T152523
CREATED:20171102T113504Z
LAST-MODIFIED:20171124T111441Z
UID:6386-1512903600-1512928800@cutismedical.com
SUMMARY:NeoGlis master-class with Mauro Mandozzi (Italy) and Svetlana Trokhimchuk (Ukraine) in Riga
DESCRIPTION:Программа семинара:\nПоследние научные разработки дермато- косметологии в области ухода за кожей от основателей технологий альфа\,- бета\,- и полиоксикислот\, их особенности в применении.\nДерматологические аспекты действия препаратов линии  NEOGLIS ( алгоритм выбора препаратов и эстетических методик)\nНаучные разработки в области пилингов. Переход от травматичных традиционных пилинговых процедур к методикам более современным и щадящим.\nГликолевые пилинги\, миндальный – сочетанные методики послойного нанесения кислот\, а также сочетанные методики с препаратами мезотерапии.\nПодробный разбор препаратов линии  NEOGLIS и анализ ингредиентов \, входящих в их состав.\nПодбор процедур и домашнего ухода для решения конкретных задач  в практике врача- косметолога.\nПрактическая часть –  разработка индивидуальных программ для различных типов кожи. Демонстрации процедур на моделях.\nТРЕНЕР: \nСветлана Трохымчук – врач биохимик\, косметолог\, специалист по Anti Age медицине\, нехирургическим методам омоложения и независимый лектор (тренер) по химическим пилингам. \n \nОбразование и повышение квалификации: \n1999 г. окончила ННЦ “Інститут біології та медицини” КНУ ім. Т. Шевченка\n1999 г. курс и стажировка в Киевском консультативно-обучающем центре по вопросам\nкосметологии Национального Медицинского университета им. О.О.Богомольца ЗАТ «Институт Красоты»\n2010 г. Школа красоты доктора Светланы Юдиной – повыщение квалификации в сфере мезотерапии\, биоревитализации\, контурной пластики\nмастер класс NEOGLIS «Дермацевтичкская линия\, методика и практичекое приминение препапатов»\nиюнь 2016 г. VI Международный обучающий курс-тренинг в Санкт-Петербурге «Эстетическая медицина: наука\, практика\, профессионализм»\nдекабрь 2016 г. III Европейский Конгресс по инфекционным методикам во Львове\nиюнь 2017 г. VII Международный обучающий курс-тренинг для косметологов по\nнехирургическим методам омоложения в Санкт-Петербурге\nОпыт работы: \nчастная практика (около 15 лет)\nс 2008 г. компания «Магия Красоты» – ведущий косметолог и тренер\nосень-зима 2016 г. лектор компании «Beauty Medical» (NEOGLIS-Italy) – семинары по дермацевтике\n  \nМауро Мандоззи – директор и разработчик дрмацевтики NeoGlis (Италия) \n \n\nИстория компании «Neoglis» неразрывно связана с фармацевтическими исследованиями\, направленными на изучение селективных действующих веществ\, входящих в состав косметических средств и используемых при процедурах. \nДействующие вещества\, эффективные и безопасные молекулы\, являющиеся продуктом синтеза\, а также ряд более сложных проблем традиционно представляют сферу деятельности компании. \nИсследовательская группа компании «Neoglis»\, научная лаборатория\, расположенная в Италии\, подходит к разработке косметических средств с научной точки зрения\, чтобы найти ответы и решения\, удовлетворяющие все более требовательные запросы клиентов. \n\n\nМЕСТО:\nRADISSON BLU DAUGAVA HOTEL\, 24 Kugu Str.\, Riga\n\nСТОИМОСТЬ:\nПриобретайте продукцию на сумму от 50 евро и участвуйте БЕСПЛАТНО!\n\nРЕГИСТРАЦИЯ:\nKarina Vinstein\nTel: (+372) 5373 7542\nE-mail: karina.vinstein@cutismedical.com
URL:https://cutismedical.com/ru/мероприятие/master-class-of-innovative-anti-age-technologies-lead-by-mauro-mandozzi-in-riga/
CATEGORIES:Рига
ATTACH;FMTTYPE=image/jpeg:https://cutismedical.com/wp-content/uploads/2017/11/Facebook_post_NeoglisSvitlanaT.jpg
END:VEVENT
END:VCALENDAR